BEGIN:VCALENDAR
VERSION:2.0
PRODID:-//Wild Rowing - ECPv6.15.20//NONSGML v1.0//EN
CALSCALE:GREGORIAN
METHOD:PUBLISH
X-WR-CALNAME:Wild Rowing
X-ORIGINAL-URL:https://wildrowing.com
X-WR-CALDESC:Events for Wild Rowing
REFRESH-INTERVAL;VALUE=DURATION:PT1H
X-Robots-Tag:noindex
X-PUBLISHED-TTL:PT1H
BEGIN:VTIMEZONE
TZID:Europe/London
BEGIN:DAYLIGHT
TZOFFSETFROM:+0000
TZOFFSETTO:+0100
TZNAME:BST
DTSTART:20250330T010000
END:DAYLIGHT
BEGIN:STANDARD
TZOFFSETFROM:+0100
TZOFFSETTO:+0000
TZNAME:GMT
DTSTART:20251026T010000
END:STANDARD
BEGIN:DAYLIGHT
TZOFFSETFROM:+0000
TZOFFSETTO:+0100
TZNAME:BST
DTSTART:20260329T010000
END:DAYLIGHT
BEGIN:STANDARD
TZOFFSETFROM:+0100
TZOFFSETTO:+0000
TZNAME:GMT
DTSTART:20261025T010000
END:STANDARD
BEGIN:DAYLIGHT
TZOFFSETFROM:+0000
TZOFFSETTO:+0100
TZNAME:BST
DTSTART:20270328T010000
END:DAYLIGHT
BEGIN:STANDARD
TZOFFSETFROM:+0100
TZOFFSETTO:+0000
TZNAME:GMT
DTSTART:20271031T010000
END:STANDARD
END:VTIMEZONE
BEGIN:VEVENT
DTSTART;TZID=Europe/London:20260413T000000
DTEND;TZID=Europe/London:20260503T235959
DTSTAMP:20260425T015114
CREATED:20260126T121252Z
LAST-MODIFIED:20260211T135819Z
UID:1226-1776038400-1777852799@wildrowing.com
SUMMARY:Turkish Beach Sprint Olympic Team Camp
DESCRIPTION:
URL:https://wildrowing.com/event/2026-turkish-beach-sprint-olympic-training-camp-iii/
LOCATION:Marmaris\, Turkey
CATEGORIES:Camps
END:VEVENT
BEGIN:VEVENT
DTSTART;TZID=Europe/London:20260420T000000
DTEND;TZID=Europe/London:20260426T235959
DTSTAMP:20260425T015114
CREATED:20260116T094246Z
LAST-MODIFIED:20260116T094351Z
UID:1127-1776643200-1777247999@wildrowing.com
SUMMARY:Copa América Beach Sprint
DESCRIPTION:
URL:https://wildrowing.com/event/2026-copa-america-beach-sprint/
LOCATION:Lima\, Peru
CATEGORIES:Races
END:VEVENT
BEGIN:VEVENT
DTSTART;TZID=Europe/London:20260425T000000
DTEND;TZID=Europe/London:20260426T235959
DTSTAMP:20260425T015114
CREATED:20260110T205607Z
LAST-MODIFIED:20260112T154331Z
UID:1048-1777075200-1777247999@wildrowing.com
SUMMARY:Rowing NZ Beach Sprint Nationals
DESCRIPTION:
URL:https://wildrowing.com/event/2026-rowing-nz-beach-sprint-nationals/
LOCATION:Owera Beach\, New Zealand
CATEGORIES:Races
END:VEVENT
BEGIN:VEVENT
DTSTART;TZID=Europe/London:20260425T000000
DTEND;TZID=Europe/London:20260426T235959
DTSTAMP:20260425T015114
CREATED:20260210T095957Z
LAST-MODIFIED:20260210T100006Z
UID:1388-1777075200-1777247999@wildrowing.com
SUMMARY:Western Cape Beach Sprint
DESCRIPTION:
URL:https://wildrowing.com/event/2026-western-cape-beach-sprint/
LOCATION:Cape Town\, South Africa
CATEGORIES:Races
END:VEVENT
END:VCALENDAR